BEGIN:VCALENDAR
VERSION:2.0
PRODID:-//nsbenyc.org - ECPv6.15.20//NONSGML v1.0//EN
CALSCALE:GREGORIAN
METHOD:PUBLISH
X-WR-CALNAME:nsbenyc.org
X-ORIGINAL-URL:https://nsbenyc.org
X-WR-CALDESC:Events for nsbenyc.org
REFRESH-INTERVAL;VALUE=DURATION:PT1H
X-Robots-Tag:noindex
X-PUBLISHED-TTL:PT1H
BEGIN:VTIMEZONE
TZID:UTC
BEGIN:STANDARD
TZOFFSETFROM:+0000
TZOFFSETTO:+0000
TZNAME:UTC
DTSTART:20250101T000000
END:STANDARD
END:VTIMEZONE
BEGIN:VEVENT
DTSTART;VALUE=DATE:20260819
DTEND;VALUE=DATE:20260823
DTSTAMP:20260421T143524
CREATED:20260407T034145Z
LAST-MODIFIED:20260407T034417Z
UID:3828-1787097600-1787443199@nsbenyc.org
SUMMARY:PDC (Professional Development Conference)
DESCRIPTION:Welcome to NSBE PDC 2026\nAugust 19–22 · Sahara Las Vegas · Legacy Horizon\n\nThis is not just a conference. This is a gathering of people who build things — and know why it matters. \nFrom Heritage to Horizon is more than a theme. It is a direction. It is the acknowledgment that everything we are reaching for was made possible by someone who came before us — and the commitment that we will do the same for those who come after. \nNSBE PDC 2026 was designed for Black professionals who are ready to go deeper. Engineers and technologists\, yes — but also business owners\, creatives\, educators\, healthcare professionals\, entrepreneurs\, and community leaders. If you are building something\, growing something\, or serving something larger than yourself\, there is a seat at this table for you. \nOver four days\, you will learn from practitioners\, not just presenters. Connect with people who are doing the work\, not just talking about it. \n  \n\n> Registration/more info <\n 
URL:https://nsbenyc.org/event/pdc-professional-development-conference/
LOCATION:Sahara Hotel\, Las Vegas\, NV\, 2535 S Las Vegas Blvd\, Las Vegas\, NV\, 89109\, United States
CATEGORIES:National Events
ATTACH;FMTTYPE=image/png:https://nsbenyc.org/wp-content/uploads/2026/04/PDC_2026.png
END:VEVENT
END:VCALENDAR