BEGIN:VCALENDAR
VERSION:2.0
PRODID:-//nsbenyc.org - ECPv6.15.20//NONSGML v1.0//EN
CALSCALE:GREGORIAN
METHOD:PUBLISH
X-ORIGINAL-URL:https://nsbenyc.org
X-WR-CALDESC:Events for nsbenyc.org
REFRESH-INTERVAL;VALUE=DURATION:PT1H
X-Robots-Tag:noindex
X-PUBLISHED-TTL:PT1H
BEGIN:VTIMEZONE
TZID:UTC
BEGIN:STANDARD
TZOFFSETFROM:+0000
TZOFFSETTO:+0000
TZNAME:UTC
DTSTART:20240101T000000
END:STANDARD
END:VTIMEZONE
BEGIN:VEVENT
DTSTART;TZID=UTC:20250816T180000
DTEND;TZID=UTC:20250816T210000
DTSTAMP:20260421T001053
CREATED:20250729T165541Z
LAST-MODIFIED:20250815T221407Z
UID:2234-1755367200-1755378000@nsbenyc.org
SUMMARY:NSBENYC x STEM So(ul)cial Presents: Black People in STEM Mixer
DESCRIPTION:UPDATE: Due to circumstances outside our control\, we have relocated the mixer to a new venue called The Saint Restaurant Bar & Speakeasy\, an upscale bar/restaurant & speakeasy on the lower east side. We assure you this venue promises to deliver an amazing experience for our guest and we apologize for any inconvenience caused by the relocation. New venue location is: The Saint Restaurant Bar & Speakeasy | 136 2nd Ave\, New York\, NY 10003\n\nNSBENYC is excited to partner with STEM So(ul)cial for their Black People in STEM Mixer. Join us at The Saint\, to network with Black Professionals in NYC. Your ticket will give you access to a welcome drink\, food\, raffles\, and more! \nNote\, PAID NSBE NYC members should use NSBENYC’s Eventbrite link to apply the chapter promo code to their order\, to receive a discount. (Promo code is available on our website under the Membership tab in “membership benefits”. Only site members will see/have access to this page). If you’re an engineer or technical professional interested in joining NSBENYC\, please sign-up via our website at nsbenyc.org. \nEvent Details: \nDate: Saturday August 16th \nLocation: The Saint Restaurant Bar & Speakeasy | 136 2nd Ave\, New York\, NY 10003 \nTime: 6:00PM – 9:00PM \nDress Code: Summer Casual or Summer Chic \n\nIncluded: 1x drink ticket and small appetizers while supplies last \nRefund Policy: All refund requests must be made 7 days in advance of the event. No refunds will be accepted or processed after this date \nClick Here for Tickets \n\n  \nUPDATE: Due to circumstances outside our control\, we have relocated the mixer to a new venue called The Saint Restaurant Bar & Speakeasy\, an upscale bar/restaurant & speakeasy on the lower east side. We assure you this venue promises to deliver an amazing experience for our guest and we apologize for any inconvenience caused by the relocation.
URL:https://nsbenyc.org/event/nsbenyc-x-stem-soulcial-presents-black-people-in-stem-mixer/
LOCATION:The Saint Restaurant Bar & Speakeasy\, 136 2nd Ave\, New York\, NY\, 10003\, United States
CATEGORIES:Chapter Events
ATTACH;FMTTYPE=image/png:https://nsbenyc.org/wp-content/uploads/2025/07/MIXER_AUGUST.png
END:VEVENT
END:VCALENDAR