BEGIN:VCALENDAR
VERSION:2.0
PRODID:-//nsbenyc.org - ECPv6.15.20//NONSGML v1.0//EN
CALSCALE:GREGORIAN
METHOD:PUBLISH
X-WR-CALNAME:nsbenyc.org
X-ORIGINAL-URL:https://nsbenyc.org
X-WR-CALDESC:Events for nsbenyc.org
REFRESH-INTERVAL;VALUE=DURATION:PT1H
X-Robots-Tag:noindex
X-PUBLISHED-TTL:PT1H
BEGIN:VTIMEZONE
TZID:UTC
BEGIN:STANDARD
TZOFFSETFROM:+0000
TZOFFSETTO:+0000
TZNAME:UTC
DTSTART:20240101T000000
END:STANDARD
END:VTIMEZONE
BEGIN:VEVENT
DTSTART;TZID=UTC:20250814T173000
DTEND;TZID=UTC:20250814T193000
DTSTAMP:20260420T225255
CREATED:20250731T161942Z
LAST-MODIFIED:20250807T055351Z
UID:2248-1755192600-1755199800@nsbenyc.org
SUMMARY:NSBE NYC General Body Meeting (GBM) - AI Powered Engineering
DESCRIPTION:Join NSBE NYC for our 3rd GBM where we’ll cover the topic\, AI Powered Engineering: From Prompt to Professional. During this interactive presentation\, here’s a few of the points we’ll cover: \n  \n\nUnderstanding the current AI landscape and how it impacts engineering\nMaster practical AI tools for academic and professional success\nLearn ethical AI usage & risk mitigation strategies\nApply AI skills to enhance daily life and personal productivity\n\n  \nOur presenter\, Leo Hawkes is a Frontend Software Engineer at JP Morgan Chase with over 5 years of experience building scalable web applications. Originally from Pittsburgh and now based in Brooklyn\, he holds a patent in innovative financial technology solutions and recently launched VibeLink\, an app that seamlessly converts music platform URLs. As a DJ performing across the country\, he brings a unique creative perspective to engineering challenges. Leo has emerged as a sought-after speaker in the AI space\, helping engineering professionals navigate the intersection of artificial intelligence and technical innovation. \nAs a bonus\, paid members get prior access (via the site) to the interactive web-app designed exclusively for NSBE NYC to practice and develop their AI skills. All registrants will receive a copy of the presentation and access to the web app after the meeting. After our presentation\, we’ll cover chapter business\, events\, announcements and PDC. Once wrapped\, we’ll head 2 blocks away to the lower level of the Park Avenue Tavern to grab some bites/drinks and socialize. Light refreshments will be available during the meeting. Please register to confirm your spot as your name must be on the building security list to be admitted. Thanks and see you soon! \nDate: Thursday\, August 14th\, 2025\nTime: 5:30 – 7:30pm EST\nLocation: AECOM\, 605 3rd Ave\, New York\, NY 10158 (2nd Floor)\nCost: Free\nVirtual Link: meet.google.com/wkd-afbb-xbw\nIncluded: Coffee\, tea\, light refreshments\nTickets: Click Here to RSVP
URL:https://nsbenyc.org/event/nsbe-nyc-general-body-meeting-gbm-ai-powered-engineering/
LOCATION:AECOM\, 605 3rd Ave\, New York\, NY\, 10158\, United States
CATEGORIES:Chapter Events
ATTACH;FMTTYPE=image/png:https://nsbenyc.org/wp-content/uploads/2025/07/GBM_AI_web.png
END:VEVENT
END:VCALENDAR