BEGIN:VCALENDAR
VERSION:2.0
PRODID:-//nsbenyc.org - ECPv6.15.20//NONSGML v1.0//EN
CALSCALE:GREGORIAN
METHOD:PUBLISH
X-WR-CALNAME:nsbenyc.org
X-ORIGINAL-URL:https://nsbenyc.org
X-WR-CALDESC:Events for nsbenyc.org
REFRESH-INTERVAL;VALUE=DURATION:PT1H
X-Robots-Tag:noindex
X-PUBLISHED-TTL:PT1H
BEGIN:VTIMEZONE
TZID:UTC
BEGIN:STANDARD
TZOFFSETFROM:+0000
TZOFFSETTO:+0000
TZNAME:UTC
DTSTART:20240101T000000
END:STANDARD
END:VTIMEZONE
BEGIN:VEVENT
DTSTART;TZID=UTC:20250527T090000
DTEND;TZID=UTC:20250527T110000
DTSTAMP:20260420T224628
CREATED:20250430T111325Z
LAST-MODIFIED:20250430T111825Z
UID:1965-1748336400-1748343600@nsbenyc.org
SUMMARY:Youth Career Day Engagement – Option 2
DESCRIPTION:Youth Career Day Engagement – Two-Part Series \nWe’re excited to share a two-part Youth Career Day Engagement event\, where volunteers will have the opportunity to inspire and connect with youth through STEM and other career pathways. \nOption 2 of the event includes: \nShare Your Story. Inspire the Future.College & Career Days invite volunteers to speak with students about their college experiences and/or career paths. Volunteers will visit three classrooms in small groups\, sharing insights and answering questions to help students explore their futures.
URL:https://nsbenyc.org/event/youth-career-day-engagement-option-2/
LOCATION:East Harlem Elementary & Middle School\, 1991 2nd Ave\, New York\, NY\, 10029\, United States
CATEGORIES:Chapter Events
ATTACH;FMTTYPE=image/png:https://nsbenyc.org/wp-content/uploads/2025/04/May-Community-Engagement-2.2-2.png
END:VEVENT
END:VCALENDAR