BEGIN:VCALENDAR
VERSION:2.0
PRODID:-//nsbenyc.org - ECPv6.15.20//NONSGML v1.0//EN
CALSCALE:GREGORIAN
METHOD:PUBLISH
X-WR-CALNAME:nsbenyc.org
X-ORIGINAL-URL:https://nsbenyc.org
X-WR-CALDESC:Events for nsbenyc.org
REFRESH-INTERVAL;VALUE=DURATION:PT1H
X-Robots-Tag:noindex
X-PUBLISHED-TTL:PT1H
BEGIN:VTIMEZONE
TZID:UTC
BEGIN:STANDARD
TZOFFSETFROM:+0000
TZOFFSETTO:+0000
TZNAME:UTC
DTSTART:20240101T000000
END:STANDARD
END:VTIMEZONE
BEGIN:VEVENT
DTSTART;TZID=UTC:20250522T173000
DTEND;TZID=UTC:20250522T193000
DTSTAMP:20260421T024412
CREATED:20250511T151649Z
LAST-MODIFIED:20250514T171607Z
UID:2013-1747935000-1747942200@nsbenyc.org
SUMMARY:May General Body Meeting (GBM)
DESCRIPTION:Curious about getting your Professional Engineering (PE) license but not sure where to start? Considering going the entrepreneurial route and want to know if getting a PE license is worth it? Please join us on Thursday\, May 22nd for a general body meeting where Eric Greppo\, PE from the NYS Education Dept. and Stephanie Goodenow\, Chief Officer of Member Services of NCEES will cover the ins and outs of PE licensing\, walk us through the process and benefits of getting the Professional Engineering (PE) license in New York as well as to learn what steps to take to help transition into your next career opportunity. \nWe’ll also cover upcoming programs for the chapter\, going to New Orleans for PDC and e-board and new member introductions. After we wrap\, we’ll get together at a local lounge/bar to grab some food & drinks and socialize for a bit. Light refreshments will be available during the meeting. Please register via Eventbrite to confirm your spot as your name must be on the building security list to be admitted. Thanks and see you soon! \n  \nRegister on Eventbrite here: \nClick Here to RSVP
URL:https://nsbenyc.org/event/may-general-body-meeting-gbm/
LOCATION:AECOM\, 605 3rd Ave\, New York\, NY\, 10158\, United States
CATEGORIES:Chapter Events
ATTACH;FMTTYPE=image/jpeg:https://nsbenyc.org/wp-content/uploads/2025/05/GBM_May22_small.jpg
END:VEVENT
END:VCALENDAR