BEGIN:VCALENDAR
VERSION:2.0
PRODID:-//nsbenyc.org - ECPv6.15.20//NONSGML v1.0//EN
CALSCALE:GREGORIAN
METHOD:PUBLISH
X-ORIGINAL-URL:https://nsbenyc.org
X-WR-CALDESC:Events for nsbenyc.org
REFRESH-INTERVAL;VALUE=DURATION:PT1H
X-Robots-Tag:noindex
X-PUBLISHED-TTL:PT1H
BEGIN:VTIMEZONE
TZID:America/New_York
BEGIN:DAYLIGHT
TZOFFSETFROM:-0500
TZOFFSETTO:-0400
TZNAME:EDT
DTSTART:20240310T070000
END:DAYLIGHT
BEGIN:STANDARD
TZOFFSETFROM:-0400
TZOFFSETTO:-0500
TZNAME:EST
DTSTART:20241103T060000
END:STANDARD
BEGIN:DAYLIGHT
TZOFFSETFROM:-0500
TZOFFSETTO:-0400
TZNAME:EDT
DTSTART:20250309T070000
END:DAYLIGHT
BEGIN:STANDARD
TZOFFSETFROM:-0400
TZOFFSETTO:-0500
TZNAME:EST
DTSTART:20251102T060000
END:STANDARD
BEGIN:DAYLIGHT
TZOFFSETFROM:-0500
TZOFFSETTO:-0400
TZNAME:EDT
DTSTART:20260308T070000
END:DAYLIGHT
BEGIN:STANDARD
TZOFFSETFROM:-0400
TZOFFSETTO:-0500
TZNAME:EST
DTSTART:20261101T060000
END:STANDARD
END:VTIMEZONE
BEGIN:VEVENT
DTSTART;TZID=America/New_York:20250503T073000
DTEND;TZID=America/New_York:20250503T133000
DTSTAMP:20260421T133851
CREATED:20250424T045503Z
LAST-MODIFIED:20250430T111719Z
UID:1944-1746257400-1746279000@nsbenyc.org
SUMMARY:Stem Saturday Structure & Design
DESCRIPTION:Program Overview \n \nAs a volunteer\, you’ll have the exciting opportunity to inspire and mentor youth scholars as they design\, build\, and test their very own wooden structures. Volunteers play a crucial role in sparking curiosity and confidence in STEM—helping each child discover their potential to thrive in science\, technology\, engineering\, and math.\n  \nWhat does the day look like for a STEM Saturday volunteer?\n\n7:30am CHECK IN – Volunteers start the day by clocking in\, making a name tag\, and enjoying a light\, complimentary breakfast.\n\n8a – 8:30am GROUP TRAINING – Join fellow volunteers for a quick\, energizing training led by our program leaders. You’ll get a full rundown of the day\, learn more about STEM Global Action mission\, and feel fully prepped for success.\n\n8:30am ATTENDEE ARRIVAL – As students begin arriving\, volunteers should be stationed at their activity tables\, getting familiar with the setup and materials. Instructional guides will be provided\, and STEM Global Action staff will be on hand to support you.\n\n9a PROGRAM INTRODUCTION – Dr. Mackie will kick off the program with opening remarks before releasing the attendees to explore.\n\n9:30a – 12:30p ACTIVITY TIME – Time to lead your group of scholars as they dive into their building challenge. You’ll encourage creativity\, answer questions\, and cheer them on as they test their ideas. Parents will remain in the viewing area during this time.\n\n12:30 – 1:30p BREAKDOWN – Wrap up by packing your station into the provided tote under your table.\n\n\nProfessional volunteers are free to head out after cleanup.\n\n\nCollege student volunteers will assist with final breakdown of the space.\n\n\n_________________\n\nIMPORTANT NOTES \n\n\nFor the safety of everyone in attendance\, name badges must be worn around the neck and visible at all times.\n\n\nDon’t forget to check out before you leave and grab your free lunch courtesy of STEM NOLA/STEM Global Action.\n\n\nUndergraduate volunteers who stay for the full event are eligible for a stipend.
URL:https://nsbenyc.org/event/stem-saturday-structure-design/
LOCATION:Queens Borough Hall\, 120 - 55 Queens Blvd\, Kew Gardens\, NY\, 11424\, United States
CATEGORIES:Chapter Events
ATTACH;FMTTYPE=image/png:https://nsbenyc.org/wp-content/uploads/2025/04/May-Community-Engagement-1-2.png
END:VEVENT
END:VCALENDAR