BEGIN:VCALENDAR
VERSION:2.0
PRODID:-//nsbenyc.org - ECPv6.15.20//NONSGML v1.0//EN
CALSCALE:GREGORIAN
METHOD:PUBLISH
X-ORIGINAL-URL:https://nsbenyc.org
X-WR-CALDESC:Events for nsbenyc.org
REFRESH-INTERVAL;VALUE=DURATION:PT1H
X-Robots-Tag:noindex
X-PUBLISHED-TTL:PT1H
BEGIN:VTIMEZONE
TZID:UTC
BEGIN:STANDARD
TZOFFSETFROM:+0000
TZOFFSETTO:+0000
TZNAME:UTC
DTSTART:20240101T000000
END:STANDARD
END:VTIMEZONE
BEGIN:VEVENT
DTSTART;TZID=UTC:20250430T183000
DTEND;TZID=UTC:20250430T193000
DTSTAMP:20260421T015145
CREATED:20250409T043558Z
LAST-MODIFIED:20250409T045311Z
UID:1725-1746037800-1746041400@nsbenyc.org
SUMMARY:Managing Workplace Stress and Conflict Through Emotional Intelligence
DESCRIPTION:Charity A. McCoy is a Business Psychology Ph.D. candidate and founder of YB Consultancy\, LLC\, with over a decade of experience in change management and grant writing. A former appointed State of Minnesota Governor and experienced nonprofit and legislative leader\, Charity brings a strong background in inclusive leadership and organizational transformation. Certified in Prosci ADKAR and DEI best practices\, she designs human-centered learning experiences to help employees manage workplace stress\, conflict\, and IT transitions. Her research and advocacy are fueled by personal passion\, focusing on improving employment outcomes for African American adults with autism. \nTopic: NSBE NYC Presents “Managing Workplace Stress and Conflict Through Emotional Intelligence” \nDate: Wednesday\, April 30\, 2025\nTime: 6:30 PM – 7:30 PM EST\nLocation: Virtual \nJoin Zoom Meeting\nhttps://us02web.zoom.us/j/4047280014?omn=85236594893\nMeeting ID: 404 728 0014 \nOne tap mobile\n+16469313860\,\,4047280014# US\n+19292056099\,\,4047280014# US (New York) \n 
URL:https://nsbenyc.org/event/managing-workplace-stress-and-conflict-through-emotional-intelligence/
LOCATION:Virtual
CATEGORIES:Chapter Events
ATTACH;FMTTYPE=image/png:https://nsbenyc.org/wp-content/uploads/2025/04/NSBE-PDC-Event-1-1.png
END:VEVENT
END:VCALENDAR