BEGIN:VCALENDAR
VERSION:2.0
PRODID:-//nsbenyc.org - ECPv6.15.20//NONSGML v1.0//EN
CALSCALE:GREGORIAN
METHOD:PUBLISH
X-ORIGINAL-URL:https://nsbenyc.org
X-WR-CALDESC:Events for nsbenyc.org
REFRESH-INTERVAL;VALUE=DURATION:PT1H
X-Robots-Tag:noindex
X-PUBLISHED-TTL:PT1H
BEGIN:VTIMEZONE
TZID:UTC
BEGIN:STANDARD
TZOFFSETFROM:+0000
TZOFFSETTO:+0000
TZNAME:UTC
DTSTART:20240101T000000
END:STANDARD
END:VTIMEZONE
BEGIN:VEVENT
DTSTART;TZID=UTC:20250321T170000
DTEND;TZID=UTC:20250321T220000
DTSTAMP:20260421T020145
CREATED:20250313T045229Z
LAST-MODIFIED:20250313T050441Z
UID:1548-1742576400-1742594400@nsbenyc.org
SUMMARY:Black Health Connect Networking Mixer (NYC)
DESCRIPTION:The NSBE NYC Professional Chapter is proud to announce a community partnership with @blackhealthconnect for the Black Health Connect NYC Q1 Mixer on March 21st\, 2025! \n✨Join us for an evening of networking\, community\, and career growth✨ This event brings together Black healthcare professionals across all fields – medtech\, pharma\, public health\, policy\, and beyond. \n📍Location: 1604 Broadway New York\, NY\n🕕Time: 5-10PM\n🔗Register through: NSBE NYC bio\, BHC bio\, or visit blackhealthconnect.com \n#NSBENYC #BLACKHEALTHCAREPROFESSIONALS
URL:https://nsbenyc.org/event/black-health-connect-networking-mixer/
LOCATION:Circo\, 1604 Broadway\, New York\, NY\, United States
CATEGORIES:Chapter Events
ATTACH;FMTTYPE=image/png:https://nsbenyc.org/wp-content/uploads/2025/03/BHC-Connect_v2.png
END:VEVENT
END:VCALENDAR