BEGIN:VCALENDAR
VERSION:2.0
PRODID:-//nsbenyc.org - ECPv6.15.20//NONSGML v1.0//EN
CALSCALE:GREGORIAN
METHOD:PUBLISH
X-WR-CALNAME:nsbenyc.org
X-ORIGINAL-URL:https://nsbenyc.org
X-WR-CALDESC:Events for nsbenyc.org
REFRESH-INTERVAL;VALUE=DURATION:PT1H
X-Robots-Tag:noindex
X-PUBLISHED-TTL:PT1H
BEGIN:VTIMEZONE
TZID:UTC
BEGIN:STANDARD
TZOFFSETFROM:+0000
TZOFFSETTO:+0000
TZNAME:UTC
DTSTART:20240101T000000
END:STANDARD
END:VTIMEZONE
BEGIN:VEVENT
DTSTART;TZID=UTC:20251107T190000
DTEND;TZID=UTC:20251107T220000
DTSTAMP:20260421T205929
CREATED:20251013T112645Z
LAST-MODIFIED:20251106T131314Z
UID:2754-1762542000-1762552800@nsbenyc.org
SUMMARY:Black STEM Professional Mixer Series: Fall Networking
DESCRIPTION:Join NSBENYC at Unveiled for our Fall Networking Edition of our Black STEM Professional Mixer Series. Each ticket includes 1x complimentary drink from our custom cocktail menu. \n* UPDATE: Due to exceedingly high demand\, we will be adding another small batch of tickets (LATE BIRD) for this event. However\, these tickets will NOT include a complimentary drink or chance to win giveaways. * \nNote\, PAID NSBE NYC members should use NSBENYC’s Eventbrite link to apply the chapter promo code to their order\, to receive a discount. (Promo code is available on our website under the Membership tab in “Membership Benefits”. Only site members will see/have access to this page). If you’re an engineer or technical professional interested in joining NSBENYC\, please sign-up via our website at nsbenyc.org. \nOur Custom Drink Menu for this Event: \n\nThe Scientist – White Rum\, Lime Juice\, Cane Sugar\, Club Soda\, Mint\nThe Technologist – Tequila\, OJ\, Grenadine\, Orange Slice & Cherry\nThe Engineer – Whiskey\, Sweet Vermouth\, Bitters\, Cherry\nThe Mathematician – Vodka\, Cranberry\, Lime Wedge\n\nDate: Friday\, November 7th\, 2025 \nLocation: Unveiled\, 94 North 13th Street\, Brooklyn\, NY 11249 \nTime: 7PM – 10PM (All ticket holders can stay for after party) \nMusic: Sounds provided by NYC’s own DJ Commish \nIncluded: One drink ticket redeemable for one beer\, wine or pre-selected mixed drink and chance to win giveaways \nRefund Policy: All refund requests must be made 7 days in advance of event. NO refunds will be accepted or processed after this date. \nCoat Check: $5 \nTickets: Click Here To Purchase via Eventbrite \n 
URL:https://nsbenyc.org/event/black-stem-professional-mixer-series-fall-networking/
LOCATION:Unveiled\, 94 N 13th Street\, Brooklyn\, NY\, 11249
CATEGORIES:Chapter Events
ATTACH;FMTTYPE=image/jpeg:https://nsbenyc.org/wp-content/uploads/2025/10/The-Black-STEM-Mixer-Series-Presents.jpg
END:VEVENT
END:VCALENDAR