BEGIN:VCALENDAR
VERSION:2.0
PRODID:-//nsbenyc.org - ECPv6.15.20//NONSGML v1.0//EN
CALSCALE:GREGORIAN
METHOD:PUBLISH
X-ORIGINAL-URL:https://nsbenyc.org
X-WR-CALDESC:Events for nsbenyc.org
REFRESH-INTERVAL;VALUE=DURATION:PT1H
X-Robots-Tag:noindex
X-PUBLISHED-TTL:PT1H
BEGIN:VTIMEZONE
TZID:UTC
BEGIN:STANDARD
TZOFFSETFROM:+0000
TZOFFSETTO:+0000
TZNAME:UTC
DTSTART:20240101T000000
END:STANDARD
END:VTIMEZONE
BEGIN:VEVENT
DTSTART;TZID=UTC:20250912T193000
DTEND;TZID=UTC:20250912T235900
DTSTAMP:20260421T190659
CREATED:20250819T174400Z
LAST-MODIFIED:20250829T223730Z
UID:2321-1757705400-1757721540@nsbenyc.org
SUMMARY:UPMIXER Presents: The Urban Professional Mixer - Sunset Cruise
DESCRIPTION:THIS IS A TICKET-ONLY EVENT! TICKETS WILL SELL OUT FAST. \n  \nUPMIXER Presents\nTHE URBAN PROFESSIONAL MIXER – SUNSET CRUISE (HBCU EDITION)\n  \nFriday\, September 12th\, 2025\nAboard the Nautical Empress\nPier 36\, 299 South Street\, New York City\n Boarding: 7:30 PM\nDeparts: 8:30 PM Sharp\nReturns: 11:00 PM\n Step aboard one of NYC’s premier yachts for NYC’s biggest networking event on the water. Join us and connect with multiple urban professional organizations\, plus alumni and professionals from prominent HBCUs\, as we cruise along the New York City skyline. Enjoy climate-controlled decks\, stunning sunset views\, and the glow of Manhattan’s most iconic landmarks. \nSoundtrack by NYC Icons: DJ Kaos & DJ Korrek \nComplimentary Buffet \nParking: There is a parking lot available on the pier\, the rate is $40 \n21+ | Valid ID Required to board \nAttire: Yacht Chic — stylish\, upscale\, and photo-ready. \nEarly Bird Tickets: Members: $65\, Non-Members $76 \nTickets: Click Here for Tickets \nNO REFUNDS | NO EXCHANGES | NO EXCEPTIONS
URL:https://nsbenyc.org/event/upmixer-presents-the-urban-professional-mixer-sunset-cruise/
LOCATION:Nautical Empress – Pier 36\, 299 South Street\, New York\, NY\, 10002\, United States
CATEGORIES:Chapter Events
ATTACH;FMTTYPE=image/jpeg:https://nsbenyc.org/wp-content/uploads/2025/08/HBCU-SUNSET-CRUISE.jpg
END:VEVENT
BEGIN:VEVENT
DTSTART;TZID=UTC:20250924T183000
DTEND;TZID=UTC:20250924T200000
DTSTAMP:20260421T190659
CREATED:20250914T183532Z
LAST-MODIFIED:20250916T023831Z
UID:2426-1758738600-1758744000@nsbenyc.org
SUMMARY:Managing Workplace Stress and Conflict Through Emotional Intelligence
DESCRIPTION:Charity A. McCoy is a Business Psychology Ph.D. candidate and founder of YB Consultancy\, LLC\, with over a decade of experience in change management and grant writing. A former appointed State of Minnesota Governor and experienced nonprofit and legislative leader\, Charity brings a strong background in inclusive leadership and organizational transformation. Certified in Prosci ADKAR and DEI best practices\, she designs human-centered learning experiences to help employees manage workplace stress\, conflict\, and IT transitions. Her research and advocacy are fueled by personal passion\, focusing on improving employment outcomes for African American adults with autism. \nTopic: NSBE NYC Presents “Managing Workplace Stress and Conflict Through Emotional Intelligence” \nPostponed Date: Wednesday\, September\, 24\, 2025\nTime: 6:30 PM – 8:00 PM EST\nLocation: Virtual \nRegistration on Eventbrite; link below \nhttps://www.eventbrite.com/e/professional-development-series-managing-workplace-stress-conflict-tickets-1674678451329?aff=oddtdtcreator \n 
URL:https://nsbenyc.org/event/managing-workplace-stress-and-conflict-through-emotional-intelligence-2/
LOCATION:NY
CATEGORIES:Chapter Events
ATTACH;FMTTYPE=image/png:https://nsbenyc.org/wp-content/uploads/2025/09/Stress-and-Conflict-Management-Webinar.png
END:VEVENT
END:VCALENDAR